BEGIN:VCALENDAR
VERSION:2.0
PRODID:-//Philadelphia Regional Center for Children&#039;s Environmental Health - ECPv6.15.14//NONSGML v1.0//EN
CALSCALE:GREGORIAN
METHOD:PUBLISH
X-WR-CALNAME:Philadelphia Regional Center for Children&#039;s Environmental Health
X-ORIGINAL-URL:https://prcceh.upenn.edu
X-WR-CALDESC:Events for Philadelphia Regional Center for Children&#039;s Environmental Health
REFRESH-INTERVAL;VALUE=DURATION:PT1H
X-Robots-Tag:noindex
X-PUBLISHED-TTL:PT1H
BEGIN:VTIMEZONE
TZID:America/New_York
BEGIN:DAYLIGHT
TZOFFSETFROM:-0500
TZOFFSETTO:-0400
TZNAME:EDT
DTSTART:20230312T070000
END:DAYLIGHT
BEGIN:STANDARD
TZOFFSETFROM:-0400
TZOFFSETTO:-0500
TZNAME:EST
DTSTART:20231105T060000
END:STANDARD
BEGIN:DAYLIGHT
TZOFFSETFROM:-0500
TZOFFSETTO:-0400
TZNAME:EDT
DTSTART:20240310T070000
END:DAYLIGHT
BEGIN:STANDARD
TZOFFSETFROM:-0400
TZOFFSETTO:-0500
TZNAME:EST
DTSTART:20241103T060000
END:STANDARD
BEGIN:DAYLIGHT
TZOFFSETFROM:-0500
TZOFFSETTO:-0400
TZNAME:EDT
DTSTART:20250309T070000
END:DAYLIGHT
BEGIN:STANDARD
TZOFFSETFROM:-0400
TZOFFSETTO:-0500
TZNAME:EST
DTSTART:20251102T060000
END:STANDARD
END:VTIMEZONE
BEGIN:VEVENT
DTSTART;TZID=America/New_York:20240711T083000
DTEND;TZID=America/New_York:20240711T153000
DTSTAMP:20260420T051118
CREATED:20240415T143758Z
LAST-MODIFIED:20240710T185641Z
UID:4704-1720686600-1720711800@prcceh.upenn.edu
SUMMARY:PRCCEH 3rd Annual Symposium
DESCRIPTION:The 3rd Annual Philadelphia Regional Center for Children’s Environmental Health Symposium brings together researchers\, nonprofit organizations\, governmental leaders and local residents to discuss and learn about the latest in children’s environmental health.  Speakers will discuss the effects of lead poisoning\, asthma\, air pollution and toxic chemicals on pregnant people and young children. We hope you’ll join us! \nRegistration is closed!\n \n  \nPresenters include: \n\nJane Clougherty\, MSc\, ScD\, Drexel University\nCarly Clayman\, PhD\, Children’s Hospital of Philadelphia\nRachel Kaminski\, Get the Lead OUT- Riverwards Philadelphia\nJerry Roseman\, Philly Healthy Schools\nAnneclaire De Roos\, PhD\, Drexel University\nMarilyn Howarth\, MD\, University of Pennsylvania\n\nView the Final Agenda\n 
URL:https://prcceh.upenn.edu/event/prcceh-3rd-annual-symposium/
LOCATION:Penn Medicine BRB II/III\, 421 Curie Blvd.\, Philadelphia\, PA\, 19104\, United States
CATEGORIES:Featured,PRCCEH,seminar,virtual
ATTACH;FMTTYPE=image/jpeg:https://prcceh.upenn.edu/wp-content/uploads/shutterstock_1162955884-Editorial-Only-Jana_Shea_Shutterstock.com-cropped.jpg
END:VEVENT
END:VCALENDAR