BEGIN:VCALENDAR
VERSION:2.0
PRODID:-//Philadelphia Regional Center for Children&#039;s Environmental Health - ECPv6.15.14//NONSGML v1.0//EN
CALSCALE:GREGORIAN
METHOD:PUBLISH
X-WR-CALNAME:Philadelphia Regional Center for Children&#039;s Environmental Health
X-ORIGINAL-URL:https://prcceh.upenn.edu
X-WR-CALDESC:Events for Philadelphia Regional Center for Children&#039;s Environmental Health
REFRESH-INTERVAL;VALUE=DURATION:PT1H
X-Robots-Tag:noindex
X-PUBLISHED-TTL:PT1H
BEGIN:VTIMEZONE
TZID:America/New_York
BEGIN:DAYLIGHT
TZOFFSETFROM:-0500
TZOFFSETTO:-0400
TZNAME:EDT
DTSTART:20230312T070000
END:DAYLIGHT
BEGIN:STANDARD
TZOFFSETFROM:-0400
TZOFFSETTO:-0500
TZNAME:EST
DTSTART:20231105T060000
END:STANDARD
BEGIN:DAYLIGHT
TZOFFSETFROM:-0500
TZOFFSETTO:-0400
TZNAME:EDT
DTSTART:20240310T070000
END:DAYLIGHT
BEGIN:STANDARD
TZOFFSETFROM:-0400
TZOFFSETTO:-0500
TZNAME:EST
DTSTART:20241103T060000
END:STANDARD
BEGIN:DAYLIGHT
TZOFFSETFROM:-0500
TZOFFSETTO:-0400
TZNAME:EDT
DTSTART:20250309T070000
END:DAYLIGHT
BEGIN:STANDARD
TZOFFSETFROM:-0400
TZOFFSETTO:-0500
TZNAME:EST
DTSTART:20251102T060000
END:STANDARD
END:VTIMEZONE
BEGIN:VEVENT
DTSTART;TZID=America/New_York:20240426T110000
DTEND;TZID=America/New_York:20240426T120000
DTSTAMP:20260420T222857
CREATED:20240311T203530Z
LAST-MODIFIED:20240411T202700Z
UID:4616-1714129200-1714132800@prcceh.upenn.edu
SUMMARY:Beyond Paint: Lead Exposure Risks for People and Wildlife
DESCRIPTION:As part of the University of Pennsylvania’s celebration of Earth Week 2024\, we are pleased to bring you this panel discussion on the impact of lead exposure to people\, wildlife and the environment.  Featuring expert speakers from across Penn including: \n\nLisa Murphy\, VMD\, Co-Director\, Wildlife Futures Program\, Penn Vet\nMarilyn Howarth\, MD\, Adjunct Associate Professor\, Penn Medicine and the Deputy Director of the Philadelphia Regional Center for Children’s Environmental Health\nReto Gieré\, PhD\, Professor\, Department of Earth and Environmental Sciences\, Penn Arts and Sciences\nModerator: Katherine Unger Baillie\, Interim Director\, Environmental Innovations Initiative\n\nThis event is open to Penn students\, faculty\, researchers and guests beyond campus! \n  \nZoom Link   Meeting ID: 921 1880 3289     Passcode: 328052 \n  \nRegister Here\nWe’ll follow up with an ical appointment and send reminders! Or use the link above on the event date \n\n  \nSponsors of this event: \nPhiladelphia Regional Center for Children’s Environmental Health\, Center of Excellence in Environmental Toxicology\, Penn Vet\, Penn Arts & Sciences\, Penn Medicine\, Penn One Health and the Penn Environmental Innovations Initiative \n  \n \n 
URL:https://prcceh.upenn.edu/event/earth-week/
LOCATION:Online
CATEGORIES:Featured,PRCCEH,seminar,virtual
ATTACH;FMTTYPE=image/png:https://prcceh.upenn.edu/wp-content/uploads/Birdwatching.png
END:VEVENT
END:VCALENDAR