BEGIN:VCALENDAR
VERSION:2.0
PRODID:-//Philadelphia Regional Center for Children&#039;s Environmental Health - ECPv6.15.14//NONSGML v1.0//EN
CALSCALE:GREGORIAN
METHOD:PUBLISH
X-WR-CALNAME:Philadelphia Regional Center for Children&#039;s Environmental Health
X-ORIGINAL-URL:https://prcceh.upenn.edu
X-WR-CALDESC:Events for Philadelphia Regional Center for Children&#039;s Environmental Health
REFRESH-INTERVAL;VALUE=DURATION:PT1H
X-Robots-Tag:noindex
X-PUBLISHED-TTL:PT1H
BEGIN:VTIMEZONE
TZID:America/New_York
BEGIN:DAYLIGHT
TZOFFSETFROM:-0500
TZOFFSETTO:-0400
TZNAME:EDT
DTSTART:20220313T070000
END:DAYLIGHT
BEGIN:STANDARD
TZOFFSETFROM:-0400
TZOFFSETTO:-0500
TZNAME:EST
DTSTART:20221106T060000
END:STANDARD
BEGIN:DAYLIGHT
TZOFFSETFROM:-0500
TZOFFSETTO:-0400
TZNAME:EDT
DTSTART:20230312T070000
END:DAYLIGHT
BEGIN:STANDARD
TZOFFSETFROM:-0400
TZOFFSETTO:-0500
TZNAME:EST
DTSTART:20231105T060000
END:STANDARD
BEGIN:DAYLIGHT
TZOFFSETFROM:-0500
TZOFFSETTO:-0400
TZNAME:EDT
DTSTART:20240310T070000
END:DAYLIGHT
BEGIN:STANDARD
TZOFFSETFROM:-0400
TZOFFSETTO:-0500
TZNAME:EST
DTSTART:20241103T060000
END:STANDARD
END:VTIMEZONE
BEGIN:VEVENT
DTSTART;TZID=America/New_York:20230504T140000
DTEND;TZID=America/New_York:20230504T153000
DTSTAMP:20260420T183915
CREATED:20230421T130941Z
LAST-MODIFIED:20230421T131104Z
UID:3740-1683208800-1683214200@prcceh.upenn.edu
SUMMARY:National Childhood Lead Poisoning Prevention Education for Pediatricians
DESCRIPTION:Childhood lead exposure and poisoning is a sustained public health concern that affects half a million children in the United States. Consequences associated with lead exposure include decreased impulse control\, learning difficulties\, and conduct disorders. Pediatricians are in a unique position to offer anticipatory guidance\, identify and treat the condition\, educate\, and advocate for policies that protect children. This webinar will build awareness of and capacity for lead screening among pediatricians and pediatric and non‐physician clinicians. Specifically\, this webinar will address: pediatric lead exposure as a present‐day public health concern\, the importance of screening and testing\, and community level approaches to decreasing pediatric lead exposure. \n\nIncreased understanding of the importance of testing children for lead in the context of pediatric practice and that lead exposure is a priority public health concern.\nIncreased confidence and understanding of their role as clinicians in detecting lead exposure in patients and blood lead level testing.\nIncreased comprehension of the CDC’s Blood Level Reference Value and its utility.\nIncreased testing for lead in pediatric or other medical practices.\n\nPanelists: \n\nMaryKate Cardon\, DNP\, CPNP‐PC (Moderator)\nMateusz Karwowski\, MD\, MPH\nAlan Woolf\, MD\, MPH\, FAACT\, FAAP\, FACMT\nGredia Huerta‐Montañez\, MD\, FAAP\n\nThis Webinar is free of charge\, however prior registration is required.
URL:https://prcceh.upenn.edu/event/national-childhood-lead-poisoning-prevention-education-for-pediatricians/
LOCATION:Online
CATEGORIES:Featured
ATTACH;FMTTYPE=image/jpeg:https://prcceh.upenn.edu/wp-content/uploads/2022/12/92770287_xl-123RF-loganban.jpg
END:VEVENT
BEGIN:VEVENT
DTSTART;TZID=America/New_York:20230523T131500
DTEND;TZID=America/New_York:20230523T141500
DTSTAMP:20260420T183915
CREATED:20230516T181809Z
LAST-MODIFIED:20230516T182003Z
UID:3816-1684847700-1684851300@prcceh.upenn.edu
SUMMARY:Tips for an Environmentally Safe Summer in Childcare
DESCRIPTION:Speakers: \n\nMarilyn Howarth\, MD\, PRCCEH Deputy Director\nDion Lerman\, MPH\, ACHE\, HHS\, Penn State.  Will discuss managing ticks and mosquitoes\nKatie Sneeringer\, DrPH\, PA Dept of Health. Will discuss outdoor air quality\nTanya Dhingra\, MPH\, Philadelphia Department of Health. Will discuss the enefit of filtering indoor air.\n\nQuestions? Contact Lorna Rosenberg at 215-779-1953 \n 
URL:https://prcceh.upenn.edu/event/tips-for-an-environmentally-safe-summer-in-childcare/
LOCATION:Online
CATEGORIES:Featured,PRCCEH,virtual
ATTACH;FMTTYPE=image/jpeg:https://prcceh.upenn.edu/wp-content/uploads/2022/12/116620531_xl-123RF-rawpixel.jpg
END:VEVENT
BEGIN:VEVENT
DTSTART;TZID=America/New_York:20230523T150000
DTEND;TZID=America/New_York:20230523T160000
DTSTAMP:20260420T183915
CREATED:20230213T213415Z
LAST-MODIFIED:20230412T131002Z
UID:3078-1684854000-1684857600@prcceh.upenn.edu
SUMMARY:Hearing the Clocks Talk: Circadian regulation of lung inflammation and repair
DESCRIPTION:Shaon Sengupta\, MD\, MPH\, neonatologist and physician scientist at the Children’s Hospital of Philadelphia is the speaker at our final PRCCEH seminar of the Spring semester.  Dr. Sengupta studies the effect of early life exposures on development and function of pulmonary circadian networks in adulthood. \n 
URL:https://prcceh.upenn.edu/event/early-life-exposure-and-development/
LOCATION:Online
CATEGORIES:Featured,PRCCEH,seminar,virtual
ATTACH;FMTTYPE=image/jpeg:https://prcceh.upenn.edu/wp-content/uploads/2023/02/sengupta-shoan-e1676324149961.jpg
END:VEVENT
END:VCALENDAR