BEGIN:VCALENDAR
VERSION:2.0
PRODID:-//Philadelphia Regional Center for Children&#039;s Environmental Health - ECPv6.15.14//NONSGML v1.0//EN
CALSCALE:GREGORIAN
METHOD:PUBLISH
X-WR-CALNAME:Philadelphia Regional Center for Children&#039;s Environmental Health
X-ORIGINAL-URL:https://prcceh.upenn.edu
X-WR-CALDESC:Events for Philadelphia Regional Center for Children&#039;s Environmental Health
REFRESH-INTERVAL;VALUE=DURATION:PT1H
X-Robots-Tag:noindex
X-PUBLISHED-TTL:PT1H
BEGIN:VTIMEZONE
TZID:America/New_York
BEGIN:DAYLIGHT
TZOFFSETFROM:-0500
TZOFFSETTO:-0400
TZNAME:EDT
DTSTART:20240310T070000
END:DAYLIGHT
BEGIN:STANDARD
TZOFFSETFROM:-0400
TZOFFSETTO:-0500
TZNAME:EST
DTSTART:20241103T060000
END:STANDARD
BEGIN:DAYLIGHT
TZOFFSETFROM:-0500
TZOFFSETTO:-0400
TZNAME:EDT
DTSTART:20250309T070000
END:DAYLIGHT
BEGIN:STANDARD
TZOFFSETFROM:-0400
TZOFFSETTO:-0500
TZNAME:EST
DTSTART:20251102T060000
END:STANDARD
BEGIN:DAYLIGHT
TZOFFSETFROM:-0500
TZOFFSETTO:-0400
TZNAME:EDT
DTSTART:20260308T070000
END:DAYLIGHT
BEGIN:STANDARD
TZOFFSETFROM:-0400
TZOFFSETTO:-0500
TZNAME:EST
DTSTART:20261101T060000
END:STANDARD
END:VTIMEZONE
BEGIN:VEVENT
DTSTART;TZID=America/New_York:20250812T140000
DTEND;TZID=America/New_York:20250812T153000
DTSTAMP:20260422T162821
CREATED:20250806T191023Z
LAST-MODIFIED:20250806T191023Z
UID:5808-1755007200-1755012600@prcceh.upenn.edu
SUMMARY:Youth & Families Child Health Champion Training
DESCRIPTION:Children’s Environmental Health Network\, Moms Clean Air Force\, and Environmental Defense Fund are partnering to add one more Child Health Champion Training to our line-up this summer! \nJoin them Tuesday\, August 12 for this free 90-minute virtual advocacy training. This workshop is designed especially for youth and families\, but will help advocates across all sectors build power\, tell their stories\, and take meaningful action together. \nIn the face of protective policy rollbacks\, cuts to critical programs and workforce\, and growing public health threats\,  it’s more important than ever to build grassroots advocacy capacity\, center community and youth stories\, and uplift a unified\, hopeful children’s environmental health movement.
URL:https://prcceh.upenn.edu/event/youth-families-child-health-champion-training/
LOCATION:Online
CATEGORIES:CEHRT,external,virtual
ATTACH;FMTTYPE=image/png:https://prcceh.upenn.edu/wp-content/uploads/2023/01/CEHN-30-Anniversary-Banner.png
END:VEVENT
BEGIN:VEVENT
DTSTART;TZID=America/New_York:20250813T123000
DTEND;TZID=America/New_York:20250813T133000
DTSTAMP:20260422T162821
CREATED:20250806T191617Z
LAST-MODIFIED:20250806T191617Z
UID:5810-1755088200-1755091800@prcceh.upenn.edu
SUMMARY:Reaching a Boiling Point: State and Local Efforts To Protect Children from Extreme Heat
DESCRIPTION:Join the Center for American Progress to discuss the challenges under this new administration\, as well as the strategies families\, communities\, and local leaders can use to protect the country’s youngest learners.
URL:https://prcceh.upenn.edu/event/reaching-a-boiling-point-state-and-local-efforts-to-protect-children-from-extreme-heat/
LOCATION:Online
CATEGORIES:external
ATTACH;FMTTYPE=image/jpeg:https://prcceh.upenn.edu/wp-content/uploads/shutterstock_1162955884-Editorial-Only-Jana_Shea_Shutterstock.com-cropped.jpg
END:VEVENT
BEGIN:VEVENT
DTSTART;TZID=America/New_York:20250813T130000
DTEND;TZID=America/New_York:20250813T143000
DTSTAMP:20260422T162821
CREATED:20250804T173539Z
LAST-MODIFIED:20250804T173539Z
UID:5774-1755090000-1755095400@prcceh.upenn.edu
SUMMARY:Breathing Easier: Protecting Children With Asthma From Wildfire Smoke
DESCRIPTION:Asthma is a chronic respiratory condition affecting an estimated 26.8 million people in the United States\, including 4.5 million children. Children are particularly susceptible to wildfire smoke for several reasons: their respiratory systems are still developing; they breathe more air (and air pollution) per pound of body weight than adults; and they’re more likely to be active outdoors. \nThis webinar will explore the intersection of wildfire smoke exposure and childhood asthma. Expert speakers\, drawn from EPA’s National Environmental Leadership Award in Asthma Management winners and wildfire smoke grant program recipients\, will share best practices\, community-engagement strategies\, and innovative approaches to integrating wildfire smoke readiness into asthma control efforts\, protecting children’s respiratory health during wildfire smoke events and improving asthma health outcomes.
URL:https://prcceh.upenn.edu/event/breathing-easier-protecting-children-with-asthma-from-wildfire-smoke/
LOCATION:Online
CATEGORIES:CEHRT,external,virtual
ATTACH;FMTTYPE=image/png:https://prcceh.upenn.edu/wp-content/uploads/Untitled-700-x-300-px-e1737733729193.png
END:VEVENT
BEGIN:VEVENT
DTSTART;TZID=America/New_York:20250820T150000
DTEND;TZID=America/New_York:20250820T160000
DTSTAMP:20260422T162821
CREATED:20250804T174332Z
LAST-MODIFIED:20250804T174332Z
UID:5779-1755702000-1755705600@prcceh.upenn.edu
SUMMARY:Microplastics
DESCRIPTION:The ubiquity of microplastics in the environment is an emerging concern. These small plastics (<5 mm) along with associated contaminants may be consumed by organisms including humans and have been found in every environment on Earth. There are numerous data gaps about the potential effects of microplastics on human health and ecological systems. \nThis webinar will provide an overview of microplastics\, the challenges of microplastic science\, and the research conducted at EPA helping to fill the data gaps\, including understanding fate and transport\, identifying toxicity\, and advancing sampling and analytical methods. The webinar will also cover the Interstate Technology & Regulatory Council (ITRC) microplastics resources\, including the Microplastics Outreach Toolkit. \nThe August 20th webinar will feature Cheryl Hankins\, EPA ORD and Valerie Mitchell Hanley\, CA DTSC/ITRC
URL:https://prcceh.upenn.edu/event/microplastics/
LOCATION:Online
CATEGORIES:external,virtual
ATTACH;FMTTYPE=image/jpeg:https://prcceh.upenn.edu/wp-content/uploads/153487705_milenakhosroshvili_123RF-small.jpg
END:VEVENT
BEGIN:VEVENT
DTSTART;TZID=America/New_York:20250826T120000
DTEND;TZID=America/New_York:20250826T130000
DTSTAMP:20260422T162821
CREATED:20250812T162455Z
LAST-MODIFIED:20250812T162455Z
UID:5833-1756209600-1756213200@prcceh.upenn.edu
SUMMARY:The Exposome in Children’s Health: Environment\, Development and Disease
DESCRIPTION:Dr. Konstantinos C. Makris is a full professor of environmental health and supervises the Water and Health laboratory at the Cyprus International Institute for Environmental and Public Health. He was an adjunct assistant professor of environmental health in the Department of Environmental Health\, Harvard University (2009-2015). His research team aims to reduce population health risks attributed to environmental contaminants found in drinking water and other environmental media. His team utilizes exposomic tools in population studies across Cyprus\, Greece\, France\, Kuwait\, the Netherlands\, and Norway. He leads the CHILDREN_FIRST  study focused on understanding the temporal evolution of the human exposome as it shapes children’s growth and development. \nHis laboratory has successfully received external funding of from the EU\, the Cyprus Research and Innovation Foundation\, NIEHS and Harvard University. He was one of two researchers who conducted the brain cancer cluster investigation around the Astrasol plant emitting dichloromethane in Cyprus. He was invited by the Environment and Health Committee of the Cyprus Parliament to provide technical evidence on the health consequences of the surrounding populations following the tragedy / explosion in Mari\, Cyprus and has also served as a member of the scientific advisory committee to the Ministry of Health about arsenic exposures in Cyprus. He is also a member of the European Council of ISEE.
URL:https://prcceh.upenn.edu/event/the-exposome-in-childrens-health-environment-development-and-disease/
LOCATION:Online
CATEGORIES:CEHRT,external,virtual
ATTACH;FMTTYPE=image/jpeg:https://prcceh.upenn.edu/wp-content/uploads/2022/12/117707604_xl-123RF-rawpixel.jpg
END:VEVENT
END:VCALENDAR