BEGIN:VCALENDAR
VERSION:2.0
PRODID:-//Philadelphia Regional Center for Children&#039;s Environmental Health - ECPv6.15.14//NONSGML v1.0//EN
CALSCALE:GREGORIAN
METHOD:PUBLISH
X-WR-CALNAME:Philadelphia Regional Center for Children&#039;s Environmental Health
X-ORIGINAL-URL:https://prcceh.upenn.edu
X-WR-CALDESC:Events for Philadelphia Regional Center for Children&#039;s Environmental Health
REFRESH-INTERVAL;VALUE=DURATION:PT1H
X-Robots-Tag:noindex
X-PUBLISHED-TTL:PT1H
BEGIN:VTIMEZONE
TZID:America/New_York
BEGIN:DAYLIGHT
TZOFFSETFROM:-0500
TZOFFSETTO:-0400
TZNAME:EDT
DTSTART:20250309T070000
END:DAYLIGHT
BEGIN:STANDARD
TZOFFSETFROM:-0400
TZOFFSETTO:-0500
TZNAME:EST
DTSTART:20251102T060000
END:STANDARD
BEGIN:DAYLIGHT
TZOFFSETFROM:-0500
TZOFFSETTO:-0400
TZNAME:EDT
DTSTART:20260308T070000
END:DAYLIGHT
BEGIN:STANDARD
TZOFFSETFROM:-0400
TZOFFSETTO:-0500
TZNAME:EST
DTSTART:20261101T060000
END:STANDARD
BEGIN:DAYLIGHT
TZOFFSETFROM:-0500
TZOFFSETTO:-0400
TZNAME:EDT
DTSTART:20270314T070000
END:DAYLIGHT
BEGIN:STANDARD
TZOFFSETFROM:-0400
TZOFFSETTO:-0500
TZNAME:EST
DTSTART:20271107T060000
END:STANDARD
END:VTIMEZONE
BEGIN:VEVENT
DTSTART;VALUE=DATE:20260410
DTEND;VALUE=DATE:20260412
DTSTAMP:20260423T163159
CREATED:20260309T135109Z
LAST-MODIFIED:20260309T135109Z
UID:6167-1775779200-1775951999@prcceh.upenn.edu
SUMMARY:Black Maternal Health Conference
DESCRIPTION:Every year\, BMHC brings Black birthers and their families\, birthworkers\, health experts\, researchers\, students\, community members\, and change agents to learn about the current work to improve the Black maternal health crisis in the United States. There is an urgency to disrupt the status quo in maternal health. We seek to raise awareness\, inspire activism\, and encourage community building. Participants leave educated\, inspired\, and equipped to continue the fight for Black maternal health equity. \nTheme this year – Women’s Health Now: Innovations\, Equity and Whole Person Care.  Learn more.
URL:https://prcceh.upenn.edu/event/black-maternal-health-conference/
LOCATION:Online
CATEGORIES:external,seminar,virtual
ATTACH;FMTTYPE=image/jpeg:https://prcceh.upenn.edu/wp-content/uploads/197271218_vadymvrobot_123RF_small.jpg
END:VEVENT
END:VCALENDAR