BEGIN:VCALENDAR
VERSION:2.0
PRODID:-//Philadelphia Regional Center for Children&#039;s Environmental Health - ECPv6.15.14//NONSGML v1.0//EN
CALSCALE:GREGORIAN
METHOD:PUBLISH
X-WR-CALNAME:Philadelphia Regional Center for Children&#039;s Environmental Health
X-ORIGINAL-URL:https://prcceh.upenn.edu
X-WR-CALDESC:Events for Philadelphia Regional Center for Children&#039;s Environmental Health
REFRESH-INTERVAL;VALUE=DURATION:PT1H
X-Robots-Tag:noindex
X-PUBLISHED-TTL:PT1H
BEGIN:VTIMEZONE
TZID:America/New_York
BEGIN:DAYLIGHT
TZOFFSETFROM:-0500
TZOFFSETTO:-0400
TZNAME:EDT
DTSTART:20250309T070000
END:DAYLIGHT
BEGIN:STANDARD
TZOFFSETFROM:-0400
TZOFFSETTO:-0500
TZNAME:EST
DTSTART:20251102T060000
END:STANDARD
BEGIN:DAYLIGHT
TZOFFSETFROM:-0500
TZOFFSETTO:-0400
TZNAME:EDT
DTSTART:20260308T070000
END:DAYLIGHT
BEGIN:STANDARD
TZOFFSETFROM:-0400
TZOFFSETTO:-0500
TZNAME:EST
DTSTART:20261101T060000
END:STANDARD
BEGIN:DAYLIGHT
TZOFFSETFROM:-0500
TZOFFSETTO:-0400
TZNAME:EDT
DTSTART:20270314T070000
END:DAYLIGHT
BEGIN:STANDARD
TZOFFSETFROM:-0400
TZOFFSETTO:-0500
TZNAME:EST
DTSTART:20271107T060000
END:STANDARD
END:VTIMEZONE
BEGIN:VEVENT
DTSTART;TZID=America/New_York:20260122T140000
DTEND;TZID=America/New_York:20260122T150000
DTSTAMP:20260422T084726
CREATED:20251211T160928Z
LAST-MODIFIED:20251211T160928Z
UID:6039-1769090400-1769094000@prcceh.upenn.edu
SUMMARY:CHE Café: How states can lead on environmental health
DESCRIPTION:The Collaborative for Health and the Environment present CHE Café: How states can lead on environmental health\, co-hosted with their partners at The New School. Many protections from pollution and toxic chemicals have moved from the federal level to the states in recent years. States have become laboratories of innovation\, with model environmental health policies found across the country. This webinar will feature Susan Kaplan\, author of the recently released book A Healthy Union: How States Can Lead on Environmental Health. The discussion will highlight leading state environmental health policies and what other states — and the federal government – can learn from them. RSVP here.
URL:https://prcceh.upenn.edu/event/che-cafe-how-states-can-lead-on-environmental-health/
LOCATION:Online
CATEGORIES:external,virtual
ATTACH;FMTTYPE=image/jpeg:https://prcceh.upenn.edu/wp-content/uploads/2022/12/52461721_xl-123RF-rawpixel.jpg
END:VEVENT
END:VCALENDAR